BEGIN:VCALENDAR
VERSION:2.0
PRODID:-//Borough of Stanhope - ECPv6.15.17.1//NONSGML v1.0//EN
CALSCALE:GREGORIAN
METHOD:PUBLISH
X-WR-CALNAME:Borough of Stanhope
X-ORIGINAL-URL:https://stanhopenj.gov
X-WR-CALDESC:Events for Borough of Stanhope
REFRESH-INTERVAL;VALUE=DURATION:PT1H
X-Robots-Tag:noindex
X-PUBLISHED-TTL:PT1H
BEGIN:VTIMEZONE
TZID:America/New_York
BEGIN:DAYLIGHT
TZOFFSETFROM:-0500
TZOFFSETTO:-0400
TZNAME:EDT
DTSTART:20170312T070000
END:DAYLIGHT
BEGIN:STANDARD
TZOFFSETFROM:-0400
TZOFFSETTO:-0500
TZNAME:EST
DTSTART:20171105T060000
END:STANDARD
BEGIN:DAYLIGHT
TZOFFSETFROM:-0500
TZOFFSETTO:-0400
TZNAME:EDT
DTSTART:20180311T070000
END:DAYLIGHT
BEGIN:STANDARD
TZOFFSETFROM:-0400
TZOFFSETTO:-0500
TZNAME:EST
DTSTART:20181104T060000
END:STANDARD
BEGIN:DAYLIGHT
TZOFFSETFROM:-0500
TZOFFSETTO:-0400
TZNAME:EDT
DTSTART:20190310T070000
END:DAYLIGHT
BEGIN:STANDARD
TZOFFSETFROM:-0400
TZOFFSETTO:-0500
TZNAME:EST
DTSTART:20191103T060000
END:STANDARD
END:VTIMEZONE
BEGIN:VEVENT
DTSTART;TZID=America/New_York:20181015T190000
DTEND;TZID=America/New_York:20181015T190000
DTSTAMP:20260420T002614
CREATED:20160620T013314Z
LAST-MODIFIED:20180119T211055Z
UID:3806-1539630000-1539630000@stanhopenj.gov
SUMMARY:Land Use Board
DESCRIPTION:The Land Use Board ensures that proposed development within our Borough promotes the health\, safety\, and general welfare of our community as we grow. All proposed development must be presented before the Land Use Board for approval. In addition\, the Land Use Board considers the appeals of decisions made by our Zoning Officer\, interprets our zoning map\, and has the authority to grant zoning variances to applicants from requirements established in our Land Use Development Ordinances. Meetings are held on the second Monday of the month at 7:00PM at the Stanhope Municipal Building.
URL:https://stanhopenj.gov/event/land-use-board-2-2-2-2-2-2-2-2-2-2-2-2-2-2-2-2-3-2-2/2018-10-15/
LOCATION:Borough Hall\, 77 Main Street\, Stanhope\, NJ\, 07874\, United States
CATEGORIES:Featured,Meetings
ATTACH;FMTTYPE=image/jpeg:https://stanhopenj.gov/wp-content/uploads/2016/06/2016-05-09-10.13.18.jpg
GEO:40.903251;-74.708484
X-APPLE-STRUCTURED-LOCATION;VALUE=URI;X-ADDRESS=Borough Hall 77 Main Street Stanhope NJ 07874 United States;X-APPLE-RADIUS=500;X-TITLE=77 Main Street:geo:-74.708484,40.903251
END:VEVENT
END:VCALENDAR