BEGIN:VCALENDAR
VERSION:2.0
PRODID:-//Borough of Stanhope - ECPv6.15.17.1//NONSGML v1.0//EN
CALSCALE:GREGORIAN
METHOD:PUBLISH
X-ORIGINAL-URL:https://stanhopenj.gov
X-WR-CALDESC:Events for Borough of Stanhope
REFRESH-INTERVAL;VALUE=DURATION:PT1H
X-Robots-Tag:noindex
X-PUBLISHED-TTL:PT1H
BEGIN:VTIMEZONE
TZID:America/New_York
BEGIN:DAYLIGHT
TZOFFSETFROM:-0500
TZOFFSETTO:-0400
TZNAME:EDT
DTSTART:20240310T070000
END:DAYLIGHT
BEGIN:STANDARD
TZOFFSETFROM:-0400
TZOFFSETTO:-0500
TZNAME:EST
DTSTART:20241103T060000
END:STANDARD
BEGIN:DAYLIGHT
TZOFFSETFROM:-0500
TZOFFSETTO:-0400
TZNAME:EDT
DTSTART:20250309T070000
END:DAYLIGHT
BEGIN:STANDARD
TZOFFSETFROM:-0400
TZOFFSETTO:-0500
TZNAME:EST
DTSTART:20251102T060000
END:STANDARD
BEGIN:DAYLIGHT
TZOFFSETFROM:-0500
TZOFFSETTO:-0400
TZNAME:EDT
DTSTART:20260308T070000
END:DAYLIGHT
BEGIN:STANDARD
TZOFFSETFROM:-0400
TZOFFSETTO:-0500
TZNAME:EST
DTSTART:20261101T060000
END:STANDARD
END:VTIMEZONE
BEGIN:VEVENT
DTSTART;TZID=America/New_York:20251022T180000
DTEND;TZID=America/New_York:20251022T200000
DTSTAMP:20260420T041248
CREATED:20250930T181409Z
LAST-MODIFIED:20250930T181409Z
UID:17636-1761156000-1761163200@stanhopenj.gov
SUMMARY:Sussex County Veterans Poker Night/Texas Hold'em
DESCRIPTION:The Sussex County Veterans are holding a Poker Night and Texas Hold’em on October 22\, 2025 from 6:00pm – 8:00pm. This event will take place at 1 Spring Street\, 1st Floor\, Newton\, NJ 07860. If you wish to attend\, you must RSVP by October 15th by calling 973-579-0555 x-1135. \n** No Buy In…..Chance to Win Prizes** \n**Registration is required — Space is Limited** \n**Pizza/Soda/Snacks Available — Come & Enjoy Comradery** \nClick Here to View/Print Flyer Veterans Poker Night & Texas Hold’em
URL:https://stanhopenj.gov/event/sussex-county-veterans-poker-night-texas-holdem/
LOCATION:1 Spring Street Newton\, NJ\, 1 Spring Street 1st Floor\, Newton\, NJ\, 07860\, United States
ATTACH;FMTTYPE=application/pdf:https://stanhopenj.gov/wp-content/uploads/2025/09/Veterans-Poker-Night-1.pdf
END:VEVENT
END:VCALENDAR